BEGIN:VCALENDAR
VERSION:2.0
PRODID:-//Saga Driehuis - ECPv6.15.20//NONSGML v1.0//EN
CALSCALE:GREGORIAN
METHOD:PUBLISH
X-ORIGINAL-URL:https://sagadriehuis.nl
X-WR-CALDESC:Evenementen voor Saga Driehuis
REFRESH-INTERVAL;VALUE=DURATION:PT1H
X-Robots-Tag:noindex
X-PUBLISHED-TTL:PT1H
BEGIN:VTIMEZONE
TZID:Europe/Amsterdam
BEGIN:DAYLIGHT
TZOFFSETFROM:+0100
TZOFFSETTO:+0200
TZNAME:CEST
DTSTART:20230326T010000
END:DAYLIGHT
BEGIN:STANDARD
TZOFFSETFROM:+0200
TZOFFSETTO:+0100
TZNAME:CET
DTSTART:20231029T010000
END:STANDARD
BEGIN:DAYLIGHT
TZOFFSETFROM:+0100
TZOFFSETTO:+0200
TZNAME:CEST
DTSTART:20240331T010000
END:DAYLIGHT
BEGIN:STANDARD
TZOFFSETFROM:+0200
TZOFFSETTO:+0100
TZNAME:CET
DTSTART:20241027T010000
END:STANDARD
BEGIN:DAYLIGHT
TZOFFSETFROM:+0100
TZOFFSETTO:+0200
TZNAME:CEST
DTSTART:20250330T010000
END:DAYLIGHT
BEGIN:STANDARD
TZOFFSETFROM:+0200
TZOFFSETTO:+0100
TZNAME:CET
DTSTART:20251026T010000
END:STANDARD
END:VTIMEZONE
BEGIN:VEVENT
DTSTART;VALUE=DATE:20240904
DTEND;VALUE=DATE:20240905
DTSTAMP:20260423T165116
CREATED:20240701T120607Z
LAST-MODIFIED:20240701T120607Z
UID:18410-1725408000-1725494399@sagadriehuis.nl
SUMMARY:Eerste onderwijsdag voor leerlingen schooljaar 2024/2025 | Verkort rooster tot 12:45 uur | Info avond ouders nieuwe leerlingen vanaf 18:30 uur
DESCRIPTION:
URL:https://sagadriehuis.nl/jaaragenda/eerste-onderwijsdag-voor-leerlingen-schooljaar-2024-2025-verkort-rooster-tot-1245-uur-info-avond-ouders-nieuwe-leerlingen-vanaf-1830-uur/
END:VEVENT
END:VCALENDAR