BEGIN:VCALENDAR
VERSION:2.0
PRODID:-//Saga Driehuis - ECPv6.15.20//NONSGML v1.0//EN
CALSCALE:GREGORIAN
METHOD:PUBLISH
X-WR-CALNAME:Saga Driehuis
X-ORIGINAL-URL:https://sagadriehuis.nl
X-WR-CALDESC:Evenementen voor Saga Driehuis
REFRESH-INTERVAL;VALUE=DURATION:PT1H
X-Robots-Tag:noindex
X-PUBLISHED-TTL:PT1H
BEGIN:VTIMEZONE
TZID:Europe/Amsterdam
BEGIN:DAYLIGHT
TZOFFSETFROM:+0100
TZOFFSETTO:+0200
TZNAME:CEST
DTSTART:20250330T010000
END:DAYLIGHT
BEGIN:STANDARD
TZOFFSETFROM:+0200
TZOFFSETTO:+0100
TZNAME:CET
DTSTART:20251026T010000
END:STANDARD
BEGIN:DAYLIGHT
TZOFFSETFROM:+0100
TZOFFSETTO:+0200
TZNAME:CEST
DTSTART:20260329T010000
END:DAYLIGHT
BEGIN:STANDARD
TZOFFSETFROM:+0200
TZOFFSETTO:+0100
TZNAME:CET
DTSTART:20261025T010000
END:STANDARD
BEGIN:DAYLIGHT
TZOFFSETFROM:+0100
TZOFFSETTO:+0200
TZNAME:CEST
DTSTART:20270328T010000
END:DAYLIGHT
BEGIN:STANDARD
TZOFFSETFROM:+0200
TZOFFSETTO:+0100
TZNAME:CET
DTSTART:20271031T010000
END:STANDARD
END:VTIMEZONE
BEGIN:VEVENT
DTSTART;VALUE=DATE:20260204
DTEND;VALUE=DATE:20260205
DTSTAMP:20260420T051940
CREATED:20250716T112449Z
LAST-MODIFIED:20250716T112449Z
UID:21110-1770163200-1770249599@sagadriehuis.nl
SUMMARY:Verkort rooster onderbouw tot 12:45\n3e communityavond van 18:30-20:30
DESCRIPTION:Verkort rooster onderbouw tot 12:45\n3e communityavond van 18:30-20:30
URL:https://sagadriehuis.nl/jaaragenda/verkort-rooster-onderbouw-tot-12453e-communityavond-van-1830-2030/
END:VEVENT
BEGIN:VEVENT
DTSTART;VALUE=DATE:20260205
DTEND;VALUE=DATE:20260206
DTSTAMP:20260420T051940
CREATED:20250923T100959Z
LAST-MODIFIED:20250923T100959Z
UID:34537-1770249600-1770335999@sagadriehuis.nl
SUMMARY:Meeloopochtend voor leerlingen van groep 8 van 09:00 – 12:30 uur
DESCRIPTION:Meeloopochtend voor leerlingen van groep 8 van 09:00 – 12:30 uur
URL:https://sagadriehuis.nl/jaaragenda/meeloopochtend-voor-leerlingen-van-groep-8-van-0900-1230-uur-20/
END:VEVENT
BEGIN:VEVENT
DTSTART;VALUE=DATE:20260210
DTEND;VALUE=DATE:20260211
DTSTAMP:20260420T051940
CREATED:20250923T101027Z
LAST-MODIFIED:20250923T101027Z
UID:34540-1770681600-1770767999@sagadriehuis.nl
SUMMARY:Meeloopochtend voor leerlingen van groep 8 van 09:00 – 12:30 uur
DESCRIPTION:Meeloopochtend voor leerlingen van groep 8 van 09:00 – 12:30 uur
URL:https://sagadriehuis.nl/jaaragenda/meeloopochtend-voor-leerlingen-van-groep-8-van-0900-1230-uur-21/
END:VEVENT
BEGIN:VEVENT
DTSTART;VALUE=DATE:20260211
DTEND;VALUE=DATE:20260212
DTSTAMP:20260420T051940
CREATED:20250716T112449Z
LAST-MODIFIED:20250716T112449Z
UID:21111-1770768000-1770854399@sagadriehuis.nl
SUMMARY:Verkort rooster onderbouw tot 12:45
DESCRIPTION:Verkort rooster onderbouw tot 12:45
URL:https://sagadriehuis.nl/jaaragenda/verkort-rooster-onderbouw-tot-1245/
END:VEVENT
BEGIN:VEVENT
DTSTART;VALUE=DATE:20260212
DTEND;VALUE=DATE:20260213
DTSTAMP:20260420T051940
CREATED:20250923T101053Z
LAST-MODIFIED:20250923T101053Z
UID:34545-1770854400-1770940799@sagadriehuis.nl
SUMMARY:Meeloopochtend voor leerlingen van groep 8 van 09:00 – 12:30 uur
DESCRIPTION:Meeloopochtend voor leerlingen van groep 8 van 09:00 – 12:30 uur
URL:https://sagadriehuis.nl/jaaragenda/meeloopochtend-voor-leerlingen-van-groep-8-van-0900-1230-uur-22/
END:VEVENT
BEGIN:VEVENT
DTSTART;VALUE=DATE:20260218
DTEND;VALUE=DATE:20260219
DTSTAMP:20260420T051940
CREATED:20250716T112449Z
LAST-MODIFIED:20250716T112449Z
UID:21112-1771372800-1771459199@sagadriehuis.nl
SUMMARY:Verkort rooster onderbouw tot 12:45
DESCRIPTION:Verkort rooster onderbouw tot 12:45
URL:https://sagadriehuis.nl/jaaragenda/verkort-rooster-onderbouw-tot-1245-2/
END:VEVENT
BEGIN:VEVENT
DTSTART;VALUE=DATE:20260223
DTEND;VALUE=DATE:20260224
DTSTAMP:20260420T051940
CREATED:20250716T112449Z
LAST-MODIFIED:20250716T112449Z
UID:21113-1771804800-1771891199@sagadriehuis.nl
SUMMARY:Voorjaarsvakantie
DESCRIPTION:Voorjaarsvakantie
URL:https://sagadriehuis.nl/jaaragenda/voorjaarsvakantie-7/
END:VEVENT
BEGIN:VEVENT
DTSTART;VALUE=DATE:20260224
DTEND;VALUE=DATE:20260225
DTSTAMP:20260420T051940
CREATED:20250716T112504Z
LAST-MODIFIED:20250716T112504Z
UID:21114-1771891200-1771977599@sagadriehuis.nl
SUMMARY:Voorjaarsvakantie
DESCRIPTION:Voorjaarsvakantie
URL:https://sagadriehuis.nl/jaaragenda/voorjaarsvakantie-8/
END:VEVENT
BEGIN:VEVENT
DTSTART;VALUE=DATE:20260225
DTEND;VALUE=DATE:20260226
DTSTAMP:20260420T051940
CREATED:20250716T112504Z
LAST-MODIFIED:20250716T112504Z
UID:21115-1771977600-1772063999@sagadriehuis.nl
SUMMARY:Voorjaarsvakantie
DESCRIPTION:Voorjaarsvakantie
URL:https://sagadriehuis.nl/jaaragenda/voorjaarsvakantie-9/
END:VEVENT
BEGIN:VEVENT
DTSTART;VALUE=DATE:20260226
DTEND;VALUE=DATE:20260227
DTSTAMP:20260420T051940
CREATED:20250716T112505Z
LAST-MODIFIED:20250716T112505Z
UID:21116-1772064000-1772150399@sagadriehuis.nl
SUMMARY:Voorjaarsvakantie
DESCRIPTION:Voorjaarsvakantie
URL:https://sagadriehuis.nl/jaaragenda/voorjaarsvakantie-10/
END:VEVENT
BEGIN:VEVENT
DTSTART;VALUE=DATE:20260227
DTEND;VALUE=DATE:20260228
DTSTAMP:20260420T051940
CREATED:20250716T112505Z
LAST-MODIFIED:20250716T112505Z
UID:21117-1772150400-1772236799@sagadriehuis.nl
SUMMARY:Voorjaarsvakantie
DESCRIPTION:Voorjaarsvakantie
URL:https://sagadriehuis.nl/jaaragenda/voorjaarsvakantie-11/
END:VEVENT
BEGIN:VEVENT
DTSTART;VALUE=DATE:20260303
DTEND;VALUE=DATE:20260304
DTSTAMP:20260420T051940
CREATED:20250716T112519Z
LAST-MODIFIED:20250716T112519Z
UID:21119-1772496000-1772582399@sagadriehuis.nl
SUMMARY:Kennismakingsgesprekken nieuwe lichting
DESCRIPTION:Kennismakingsgesprekken nieuwe lichting\, verkort rooster onderbouw tot 14:00 uur
URL:https://sagadriehuis.nl/jaaragenda/kennismakingsgesprekken-nieuwe-lichting-2/
END:VEVENT
BEGIN:VEVENT
DTSTART;VALUE=DATE:20260304
DTEND;VALUE=DATE:20260305
DTSTAMP:20260420T051940
CREATED:20250716T112519Z
LAST-MODIFIED:20250716T112519Z
UID:21120-1772582400-1772668799@sagadriehuis.nl
SUMMARY:Verkort rooster onderbouw tot 12:45\nKennismakingsgesprekken nieuwe lichting
DESCRIPTION:Verkort rooster onderbouw tot 12:45\nKennismakingsgesprekken nieuwe lichting\, verkort rooster onderbouw tot 12:45 uur
URL:https://sagadriehuis.nl/jaaragenda/verkort-rooster-onderbouw-tot-1245kennismakingsgesprekken-nieuwe-lichting/
END:VEVENT
BEGIN:VEVENT
DTSTART;VALUE=DATE:20260305
DTEND;VALUE=DATE:20260306
DTSTAMP:20260420T051940
CREATED:20250716T112519Z
LAST-MODIFIED:20250716T112519Z
UID:21121-1772668800-1772755199@sagadriehuis.nl
SUMMARY:Kennismakingsgesprekken nieuwe lichting
DESCRIPTION:Kennismakingsgesprekken nieuwe lichting\, verkort rooster onderbouw tot 14:00 uur
URL:https://sagadriehuis.nl/jaaragenda/kennismakingsgesprekken-nieuwe-lichting-3/
END:VEVENT
BEGIN:VEVENT
DTSTART;VALUE=DATE:20260306
DTEND;VALUE=DATE:20260307
DTSTAMP:20260420T051940
CREATED:20250716T112519Z
LAST-MODIFIED:20250716T112519Z
UID:21122-1772755200-1772841599@sagadriehuis.nl
SUMMARY:Kennismakingsgesprekken nieuwe lichting
DESCRIPTION:Kennismakingsgesprekken nieuwe lichting\, verkort rooster onderbouw tot 14:00 uur
URL:https://sagadriehuis.nl/jaaragenda/kennismakingsgesprekken-nieuwe-lichting-4/
END:VEVENT
BEGIN:VEVENT
DTSTART;VALUE=DATE:20260309
DTEND;VALUE=DATE:20260310
DTSTAMP:20260420T051940
CREATED:20250716T112519Z
LAST-MODIFIED:20250716T112519Z
UID:21123-1773014400-1773100799@sagadriehuis.nl
SUMMARY:Kennismakingsgesprekken nieuwe lichting
DESCRIPTION:Kennismakingsgesprekken nieuwe lichting\, verkort rooster onderbouw tot 14:00 uur
URL:https://sagadriehuis.nl/jaaragenda/kennismakingsgesprekken-nieuwe-lichting-5/
END:VEVENT
BEGIN:VEVENT
DTSTART;VALUE=DATE:20260310
DTEND;VALUE=DATE:20260311
DTSTAMP:20260420T051940
CREATED:20250716T112719Z
LAST-MODIFIED:20250716T112719Z
UID:21124-1773100800-1773187199@sagadriehuis.nl
SUMMARY:Kennismakingsgesprekken nieuwe lichting
DESCRIPTION:Kennismakingsgesprekken nieuwe lichting\, verkort rooster onderbouw tot 14:00 uur
URL:https://sagadriehuis.nl/jaaragenda/kennismakingsgesprekken-nieuwe-lichting-6/
END:VEVENT
BEGIN:VEVENT
DTSTART;VALUE=DATE:20260312
DTEND;VALUE=DATE:20260313
DTSTAMP:20260420T051940
CREATED:20250716T112719Z
LAST-MODIFIED:20250716T112719Z
UID:21126-1773273600-1773359999@sagadriehuis.nl
SUMMARY:Kennismakingsgesprekken nieuwe lichting
DESCRIPTION:Kennismakingsgesprekken nieuwe lichting\, verkort rooster onderbouw tot 14:00 uur
URL:https://sagadriehuis.nl/jaaragenda/kennismakingsgesprekken-nieuwe-lichting-7/
END:VEVENT
BEGIN:VEVENT
DTSTART;VALUE=DATE:20260313
DTEND;VALUE=DATE:20260314
DTSTAMP:20260420T051940
CREATED:20250716T112719Z
LAST-MODIFIED:20250716T112719Z
UID:21127-1773360000-1773446399@sagadriehuis.nl
SUMMARY:Kennismakingsgesprekken nieuwe lichting
DESCRIPTION:Kennismakingsgesprekken nieuwe lichting\, verkort rooster onderbouw tot 14:00 uur
URL:https://sagadriehuis.nl/jaaragenda/kennismakingsgesprekken-nieuwe-lichting-8/
END:VEVENT
BEGIN:VEVENT
DTSTART;VALUE=DATE:20260318
DTEND;VALUE=DATE:20260319
DTSTAMP:20260420T051940
CREATED:20250716T112719Z
LAST-MODIFIED:20250716T112719Z
UID:21128-1773792000-1773878399@sagadriehuis.nl
SUMMARY:Verkort rooster onderbouw tot 12:45u. Techniek ochtend
DESCRIPTION:Verkort rooster onderbouw tot 12:45u. Techniek ochtend
URL:https://sagadriehuis.nl/jaaragenda/verkort-rooster-onderbouw-tot-1245u-techniek-ochtend/
END:VEVENT
BEGIN:VEVENT
DTSTART;VALUE=DATE:20260319
DTEND;VALUE=DATE:20260320
DTSTAMP:20260420T051940
CREATED:20250716T112919Z
LAST-MODIFIED:20250716T112919Z
UID:21129-1773878400-1773964799@sagadriehuis.nl
SUMMARY:Verenigingsdag Agora VAO. Thuiswerkdag leerlingen
DESCRIPTION:Verenigingsdag Agora VAO. Thuiswerkdag leerlingen
URL:https://sagadriehuis.nl/jaaragenda/verenigingsdag-agora-vao-thuiswerkdag-leerlingen/
END:VEVENT
BEGIN:VEVENT
DTSTART;VALUE=DATE:20260323
DTEND;VALUE=DATE:20260324
DTSTAMP:20260420T051940
CREATED:20250716T112919Z
LAST-MODIFIED:20250716T112919Z
UID:21130-1774224000-1774310399@sagadriehuis.nl
SUMMARY:Onderbouw: Driehoeksgesprekken\, verkort rooster onderbouw tot 12:45\nBovenbouw: Voortgangsgesprekken
DESCRIPTION:Onderbouw: Driehoeksgesprekken\, verkort rooster onderbouw tot 12:45\nBovenbouw: Voortgangsgesprekken met voor-examenleerlingen Bovenbouw: Verplicht driehoeksgesprek examenleerlingen
URL:https://sagadriehuis.nl/jaaragenda/onderbouw-driehoeksgesprekken-verkort-rooster-onderbouw-tot-1245bovenbouw-voortgangsgesprekken/
END:VEVENT
BEGIN:VEVENT
DTSTART;VALUE=DATE:20260324
DTEND;VALUE=DATE:20260325
DTSTAMP:20260420T051940
CREATED:20250716T112919Z
LAST-MODIFIED:20250716T112919Z
UID:21131-1774310400-1774396799@sagadriehuis.nl
SUMMARY:Onderbouw: Driehoeksgesprekken\, verkort rooster onderbouw tot 12:45\nBovenbouw: Voortgangsgesprekken
DESCRIPTION:Onderbouw: Driehoeksgesprekken\, verkort rooster onderbouw tot 12:45\nBovenbouw: Voortgangsgesprekken met voor-examenleerlingen Bovenbouw: Verplicht driehoeksgesprek examenleerlingen
URL:https://sagadriehuis.nl/jaaragenda/onderbouw-driehoeksgesprekken-verkort-rooster-onderbouw-tot-1245bovenbouw-voortgangsgesprekken-2/
END:VEVENT
BEGIN:VEVENT
DTSTART;VALUE=DATE:20260325
DTEND;VALUE=DATE:20260326
DTSTAMP:20260420T051940
CREATED:20250716T112919Z
LAST-MODIFIED:20250716T112919Z
UID:21132-1774396800-1774483199@sagadriehuis.nl
SUMMARY:Onderbouw: Driehoeksgesprekken\, verkort rooster onderbouw tot 12:45\nBovenbouw: Voortgangsgesprekken
DESCRIPTION:Onderbouw: Driehoeksgesprekken\, verkort rooster onderbouw tot 12:45\nBovenbouw: Voortgangsgesprekken met voor-examenleerlingen Bovenbouw: Verplicht driehoeksgesprek examenleerlingen
URL:https://sagadriehuis.nl/jaaragenda/onderbouw-driehoeksgesprekken-verkort-rooster-onderbouw-tot-1245bovenbouw-voortgangsgesprekken-3/
END:VEVENT
BEGIN:VEVENT
DTSTART;VALUE=DATE:20260326
DTEND;VALUE=DATE:20260327
DTSTAMP:20260420T051940
CREATED:20250716T112920Z
LAST-MODIFIED:20250716T112920Z
UID:21133-1774483200-1774569599@sagadriehuis.nl
SUMMARY:Onderbouw: Driehoeksgesprekken\, verkort rooster onderbouw tot 12:45\nBovenbouw: Voortgangsgesprekken
DESCRIPTION:Onderbouw: Driehoeksgesprekken\, verkort rooster onderbouw tot 12:45\nBovenbouw: Voortgangsgesprekken met voor-examenleerlingen Bovenbouw: Verplicht driehoeksgesprek examenleerlingen
URL:https://sagadriehuis.nl/jaaragenda/onderbouw-driehoeksgesprekken-verkort-rooster-onderbouw-tot-1245bovenbouw-voortgangsgesprekken-4/
END:VEVENT
BEGIN:VEVENT
DTSTART;VALUE=DATE:20260327
DTEND;VALUE=DATE:20260328
DTSTAMP:20260420T051940
CREATED:20250716T113010Z
LAST-MODIFIED:20250716T113010Z
UID:21134-1774569600-1774655999@sagadriehuis.nl
SUMMARY:Bovenbouw: Voortgangsgesprekken met voor-examenleerlingen Bovenbouw: Verplicht driehoeksgesprek exam
DESCRIPTION:Bovenbouw: Voortgangsgesprekken met voor-examenleerlingen Bovenbouw: Verplicht driehoeksgesprek examenleerlingen
URL:https://sagadriehuis.nl/jaaragenda/bovenbouw-voortgangsgesprekken-met-voor-examenleerlingen-bovenbouw-verplicht-driehoeksgesprek-exam/
END:VEVENT
BEGIN:VEVENT
DTSTART;VALUE=DATE:20260401
DTEND;VALUE=DATE:20260402
DTSTAMP:20260420T051940
CREATED:20250716T113011Z
LAST-MODIFIED:20260302T131332Z
UID:21135-1775001600-1775087999@sagadriehuis.nl
SUMMARY:Verkort rooster onderbouw tot 12:45
DESCRIPTION:Verkort rooster onderbouw tot 12:45 Meeloopochtend groep 7 van 10:00-12:30u
URL:https://sagadriehuis.nl/jaaragenda/verkort-rooster-onderbouw-tot-1245-meeloopochtend-groep-7-van-1000-1230u/
END:VEVENT
BEGIN:VEVENT
DTSTART;VALUE=DATE:20260403
DTEND;VALUE=DATE:20260404
DTSTAMP:20260420T051940
CREATED:20250716T113011Z
LAST-MODIFIED:20260402T105205Z
UID:21136-1775174400-1775260799@sagadriehuis.nl
SUMMARY:Goede vrijdag
DESCRIPTION:Goede vrijdag (Geen vrije dag. Leerlingen hebben gewoon les)
URL:https://sagadriehuis.nl/jaaragenda/goede-vrijdag-3/
END:VEVENT
BEGIN:VEVENT
DTSTART;VALUE=DATE:20260406
DTEND;VALUE=DATE:20260407
DTSTAMP:20260420T051940
CREATED:20250716T113011Z
LAST-MODIFIED:20260402T105248Z
UID:21137-1775433600-1775519999@sagadriehuis.nl
SUMMARY:Tweede paasdag
DESCRIPTION:Tweede paasdag (Vrije dag)
URL:https://sagadriehuis.nl/jaaragenda/tweede-paasdag-2/
END:VEVENT
BEGIN:VEVENT
DTSTART;VALUE=DATE:20260407
DTEND;VALUE=DATE:20260408
DTSTAMP:20260420T051940
CREATED:20250716T113012Z
LAST-MODIFIED:20250716T113012Z
UID:21138-1775520000-1775606399@sagadriehuis.nl
SUMMARY:Diatoetsen
DESCRIPTION:Diatoetsen
URL:https://sagadriehuis.nl/jaaragenda/diatoetsen-10/
END:VEVENT
END:VCALENDAR