BEGIN:VCALENDAR
VERSION:2.0
PRODID:-//Saga Driehuis - ECPv6.15.20//NONSGML v1.0//EN
CALSCALE:GREGORIAN
METHOD:PUBLISH
X-WR-CALNAME:Saga Driehuis
X-ORIGINAL-URL:https://sagadriehuis.nl
X-WR-CALDESC:Evenementen voor Saga Driehuis
REFRESH-INTERVAL;VALUE=DURATION:PT1H
X-Robots-Tag:noindex
X-PUBLISHED-TTL:PT1H
BEGIN:VTIMEZONE
TZID:Europe/Amsterdam
BEGIN:DAYLIGHT
TZOFFSETFROM:+0100
TZOFFSETTO:+0200
TZNAME:CEST
DTSTART:20250330T010000
END:DAYLIGHT
BEGIN:STANDARD
TZOFFSETFROM:+0200
TZOFFSETTO:+0100
TZNAME:CET
DTSTART:20251026T010000
END:STANDARD
BEGIN:DAYLIGHT
TZOFFSETFROM:+0100
TZOFFSETTO:+0200
TZNAME:CEST
DTSTART:20260329T010000
END:DAYLIGHT
BEGIN:STANDARD
TZOFFSETFROM:+0200
TZOFFSETTO:+0100
TZNAME:CET
DTSTART:20261025T010000
END:STANDARD
BEGIN:DAYLIGHT
TZOFFSETFROM:+0100
TZOFFSETTO:+0200
TZNAME:CEST
DTSTART:20270328T010000
END:DAYLIGHT
BEGIN:STANDARD
TZOFFSETFROM:+0200
TZOFFSETTO:+0100
TZNAME:CET
DTSTART:20271031T010000
END:STANDARD
END:VTIMEZONE
BEGIN:VEVENT
DTSTART;VALUE=DATE:20260508
DTEND;VALUE=DATE:20260509
DTSTAMP:20260421T054407
CREATED:20250716T113213Z
LAST-MODIFIED:20250716T113213Z
UID:21157-1778198400-1778284799@sagadriehuis.nl
SUMMARY:CSE's
DESCRIPTION:CSE’s
URL:https://sagadriehuis.nl/jaaragenda/cses-16/
END:VEVENT
BEGIN:VEVENT
DTSTART;VALUE=DATE:20260511
DTEND;VALUE=DATE:20260512
DTSTAMP:20260421T054407
CREATED:20250716T113214Z
LAST-MODIFIED:20250716T113214Z
UID:21158-1778457600-1778543999@sagadriehuis.nl
SUMMARY:CSE's
DESCRIPTION:CSE’s
URL:https://sagadriehuis.nl/jaaragenda/cses-17/
END:VEVENT
BEGIN:VEVENT
DTSTART;VALUE=DATE:20260512
DTEND;VALUE=DATE:20260513
DTSTAMP:20260421T054407
CREATED:20250716T113228Z
LAST-MODIFIED:20250716T113228Z
UID:21159-1778544000-1778630399@sagadriehuis.nl
SUMMARY:CSE's
DESCRIPTION:CSE’s
URL:https://sagadriehuis.nl/jaaragenda/cses-18/
END:VEVENT
BEGIN:VEVENT
DTSTART;VALUE=DATE:20260513
DTEND;VALUE=DATE:20260514
DTSTAMP:20260421T054407
CREATED:20250716T113228Z
LAST-MODIFIED:20250716T113228Z
UID:21160-1778630400-1778716799@sagadriehuis.nl
SUMMARY:Verkort rooster onderbouw tot 12:45\nCSE's
DESCRIPTION:Verkort rooster onderbouw tot 12:45\nCSE’s
URL:https://sagadriehuis.nl/jaaragenda/verkort-rooster-onderbouw-tot-1245cses/
END:VEVENT
BEGIN:VEVENT
DTSTART;VALUE=DATE:20260514
DTEND;VALUE=DATE:20260515
DTSTAMP:20260421T054407
CREATED:20250716T113228Z
LAST-MODIFIED:20250716T113228Z
UID:21161-1778716800-1778803199@sagadriehuis.nl
SUMMARY:Hemelvaartvakantie
DESCRIPTION:Hemelvaartvakantie
URL:https://sagadriehuis.nl/jaaragenda/hemelvaartvakantie-3/
END:VEVENT
BEGIN:VEVENT
DTSTART;VALUE=DATE:20260515
DTEND;VALUE=DATE:20260516
DTSTAMP:20260421T054407
CREATED:20250716T113228Z
LAST-MODIFIED:20250716T113228Z
UID:21162-1778803200-1778889599@sagadriehuis.nl
SUMMARY:Hemelvaartvakantie
DESCRIPTION:Hemelvaartvakantie
URL:https://sagadriehuis.nl/jaaragenda/hemelvaartvakantie-4/
END:VEVENT
BEGIN:VEVENT
DTSTART;VALUE=DATE:20260518
DTEND;VALUE=DATE:20260519
DTSTAMP:20260421T054407
CREATED:20250716T113229Z
LAST-MODIFIED:20250716T113229Z
UID:21163-1779062400-1779148799@sagadriehuis.nl
SUMMARY:CSE's
DESCRIPTION:CSE’s
URL:https://sagadriehuis.nl/jaaragenda/cses-19/
END:VEVENT
BEGIN:VEVENT
DTSTART;VALUE=DATE:20260519
DTEND;VALUE=DATE:20260520
DTSTAMP:20260421T054407
CREATED:20250716T113243Z
LAST-MODIFIED:20250716T113243Z
UID:21164-1779148800-1779235199@sagadriehuis.nl
SUMMARY:CSE's
DESCRIPTION:CSE’s
URL:https://sagadriehuis.nl/jaaragenda/cses-20/
END:VEVENT
BEGIN:VEVENT
DTSTART;VALUE=DATE:20260520
DTEND;VALUE=DATE:20260521
DTSTAMP:20260421T054407
CREATED:20250716T113243Z
LAST-MODIFIED:20250716T113243Z
UID:21165-1779235200-1779321599@sagadriehuis.nl
SUMMARY:Studiedag medewerkers\, leerlingen thuiswerkdag\nCSE's
DESCRIPTION:Studiedag medewerkers\, leerlingen thuiswerkdag\nCSE’s
URL:https://sagadriehuis.nl/jaaragenda/studiedag-medewerkers-leerlingen-thuiswerkdagcses/
END:VEVENT
BEGIN:VEVENT
DTSTART;VALUE=DATE:20260521
DTEND;VALUE=DATE:20260522
DTSTAMP:20260421T054407
CREATED:20250716T113243Z
LAST-MODIFIED:20250716T113243Z
UID:21166-1779321600-1779407999@sagadriehuis.nl
SUMMARY:CSE's
DESCRIPTION:CSE’s
URL:https://sagadriehuis.nl/jaaragenda/cses-21/
END:VEVENT
BEGIN:VEVENT
DTSTART;VALUE=DATE:20260522
DTEND;VALUE=DATE:20260523
DTSTAMP:20260421T054407
CREATED:20250716T113243Z
LAST-MODIFIED:20250716T113243Z
UID:21167-1779408000-1779494399@sagadriehuis.nl
SUMMARY:CSE's
DESCRIPTION:CSE’s
URL:https://sagadriehuis.nl/jaaragenda/cses-22/
END:VEVENT
BEGIN:VEVENT
DTSTART;VALUE=DATE:20260525
DTEND;VALUE=DATE:20260526
DTSTAMP:20260421T054407
CREATED:20250716T113244Z
LAST-MODIFIED:20250716T113244Z
UID:21168-1779667200-1779753599@sagadriehuis.nl
SUMMARY:Tweede pinksterdag
DESCRIPTION:Tweede pinksterdag
URL:https://sagadriehuis.nl/jaaragenda/tweede-pinksterdag-2/
END:VEVENT
BEGIN:VEVENT
DTSTART;VALUE=DATE:20260526
DTEND;VALUE=DATE:20260527
DTSTAMP:20260421T054407
CREATED:20250716T113258Z
LAST-MODIFIED:20250716T113258Z
UID:21169-1779753600-1779839999@sagadriehuis.nl
SUMMARY:CSE's
DESCRIPTION:CSE’s
URL:https://sagadriehuis.nl/jaaragenda/cses-23/
END:VEVENT
BEGIN:VEVENT
DTSTART;VALUE=DATE:20260527
DTEND;VALUE=DATE:20260528
DTSTAMP:20260421T054407
CREATED:20250716T113258Z
LAST-MODIFIED:20250716T113258Z
UID:21170-1779840000-1779926399@sagadriehuis.nl
SUMMARY:Verkort rooster onderbouw tot 12:45 CSE's
DESCRIPTION:Verkort rooster onderbouw tot 12:45 CSE’s
URL:https://sagadriehuis.nl/jaaragenda/verkort-rooster-onderbouw-tot-1245-cses/
END:VEVENT
BEGIN:VEVENT
DTSTART;VALUE=DATE:20260603
DTEND;VALUE=DATE:20260604
DTSTAMP:20260421T054407
CREATED:20250716T113258Z
LAST-MODIFIED:20250716T113258Z
UID:21171-1780444800-1780531199@sagadriehuis.nl
SUMMARY:Verkort rooster onderbouw tot 12:45 Sportdag onderbouw\nKennismakingsgesprekken nieuwe lichting leerl
DESCRIPTION:Verkort rooster onderbouw tot 12:45 Sportdag onderbouw\nKennismakingsgesprekken nieuwe lichting leerlingen plus ouders om 15:30
URL:https://sagadriehuis.nl/jaaragenda/verkort-rooster-onderbouw-tot-1245-sportdag-onderbouwkennismakingsgesprekken-nieuwe-lichting-leerl/
END:VEVENT
BEGIN:VEVENT
DTSTART;VALUE=DATE:20260610
DTEND;VALUE=DATE:20260611
DTSTAMP:20260421T054407
CREATED:20250716T113258Z
LAST-MODIFIED:20250716T113258Z
UID:21172-1781049600-1781135999@sagadriehuis.nl
SUMMARY:Verkort rooster onderbouw tot 12:45\nSportdag bovenbouw Techniekochtend onderbouw
DESCRIPTION:Verkort rooster onderbouw tot 12:45\nSportdag bovenbouw Techniekochtend onderbouw
URL:https://sagadriehuis.nl/jaaragenda/verkort-rooster-onderbouw-tot-1245sportdag-bovenbouw-techniekochtend-onderbouw/
END:VEVENT
BEGIN:VEVENT
DTSTART;VALUE=DATE:20260617
DTEND;VALUE=DATE:20260618
DTSTAMP:20260421T054407
CREATED:20250716T113259Z
LAST-MODIFIED:20250716T113259Z
UID:21173-1781654400-1781740799@sagadriehuis.nl
SUMMARY:Verkort rooster onderbouw tot 12:45\nTweede tijdvak CE's
DESCRIPTION:Verkort rooster onderbouw tot 12:45\nTweede tijdvak CE’s
URL:https://sagadriehuis.nl/jaaragenda/verkort-rooster-onderbouw-tot-1245tweede-tijdvak-ces/
END:VEVENT
BEGIN:VEVENT
DTSTART;VALUE=DATE:20260618
DTEND;VALUE=DATE:20260619
DTSTAMP:20260421T054407
CREATED:20250716T113459Z
LAST-MODIFIED:20250716T113459Z
UID:21174-1781740800-1781827199@sagadriehuis.nl
SUMMARY:Tweede tijdvak CE's
DESCRIPTION:Tweede tijdvak CE’s
URL:https://sagadriehuis.nl/jaaragenda/tweede-tijdvak-ces/
END:VEVENT
BEGIN:VEVENT
DTSTART;VALUE=DATE:20260619
DTEND;VALUE=DATE:20260620
DTSTAMP:20260421T054407
CREATED:20250716T113459Z
LAST-MODIFIED:20250716T113459Z
UID:21175-1781827200-1781913599@sagadriehuis.nl
SUMMARY:Tweede tijdvak CE's
DESCRIPTION:Tweede tijdvak CE’s
URL:https://sagadriehuis.nl/jaaragenda/tweede-tijdvak-ces-2/
END:VEVENT
BEGIN:VEVENT
DTSTART;VALUE=DATE:20260622
DTEND;VALUE=DATE:20260623
DTSTAMP:20260421T054407
CREATED:20250716T113459Z
LAST-MODIFIED:20250716T113459Z
UID:21176-1782086400-1782172799@sagadriehuis.nl
SUMMARY:Onderbouw: Portfoliopresentaties\, verkort rooster tot 12:45\nBovenbouw: Voortgangsgesprekken\, verkort
DESCRIPTION:Onderbouw: Portfoliopresentaties\, verkort rooster tot 12:45\nBovenbouw: Voortgangsgesprekken\, verkort rooster tot 12.45\, toetsuren blijven staan Tweede tijdvak CE’s
URL:https://sagadriehuis.nl/jaaragenda/onderbouw-portfoliopresentaties-verkort-rooster-tot-1245bovenbouw-voortgangsgesprekken-verkort/
END:VEVENT
BEGIN:VEVENT
DTSTART;VALUE=DATE:20260623
DTEND;VALUE=DATE:20260624
DTSTAMP:20260421T054407
CREATED:20250716T113459Z
LAST-MODIFIED:20250716T113459Z
UID:21177-1782172800-1782259199@sagadriehuis.nl
SUMMARY:Onderbouw: Portfoliopresentaties\, verkort rooster tot 12:45\nBovenbouw: Voortgangsgeprekken\, verkort
DESCRIPTION:Onderbouw: Portfoliopresentaties\, verkort rooster tot 12:45\nBovenbouw: Voortgangsgeprekken\, verkort rooster tot 12.45\, toetsuren blijven staan Tweede tijdvak CE’s
URL:https://sagadriehuis.nl/jaaragenda/onderbouw-portfoliopresentaties-verkort-rooster-tot-1245bovenbouw-voortgangsgeprekken-verkort/
END:VEVENT
BEGIN:VEVENT
DTSTART;VALUE=DATE:20260624
DTEND;VALUE=DATE:20260625
DTSTAMP:20260421T054407
CREATED:20250716T113500Z
LAST-MODIFIED:20250716T113500Z
UID:21178-1782259200-1782345599@sagadriehuis.nl
SUMMARY:Onderbouw: Portfoliopresentaties\, verkort rooster tot 12:45\nBovenbouw: Voortgangsgesprekken\, verkort
DESCRIPTION:Onderbouw: Portfoliopresentaties\, verkort rooster tot 12:45\nBovenbouw: Voortgangsgesprekken\, verkort rooster tot 12.45\, toetsuren blijven staan Tweede tijdvak CE’s
URL:https://sagadriehuis.nl/jaaragenda/onderbouw-portfoliopresentaties-verkort-rooster-tot-1245bovenbouw-voortgangsgesprekken-verkort-2/
END:VEVENT
BEGIN:VEVENT
DTSTART;VALUE=DATE:20260625
DTEND;VALUE=DATE:20260626
DTSTAMP:20260421T054407
CREATED:20250716T113659Z
LAST-MODIFIED:20250716T113659Z
UID:21179-1782345600-1782431999@sagadriehuis.nl
SUMMARY:Onderbouw: Portfoliopresentaties\, verkort rooster onderbouw tot 12:45\nBovenbouw: Voortgangsgesprekke
DESCRIPTION:Onderbouw: Portfoliopresentaties\, verkort rooster onderbouw tot 12:45\nBovenbouw: Voortgangsgesprekken\, verkort rooster tot 12.45\, toetsuren blijven staan
URL:https://sagadriehuis.nl/jaaragenda/onderbouw-portfoliopresentaties-verkort-rooster-onderbouw-tot-1245bovenbouw-voortgangsgesprekke/
END:VEVENT
BEGIN:VEVENT
DTSTART;VALUE=DATE:20260630
DTEND;VALUE=DATE:20260701
DTSTAMP:20260421T054407
CREATED:20250716T113659Z
LAST-MODIFIED:20250716T113659Z
UID:21182-1782777600-1782863999@sagadriehuis.nl
SUMMARY:Klassenuitjes
DESCRIPTION:Klassenuitjes
URL:https://sagadriehuis.nl/jaaragenda/klassenuitjes/
END:VEVENT
BEGIN:VEVENT
DTSTART;VALUE=DATE:20260701
DTEND;VALUE=DATE:20260702
DTSTAMP:20260421T054407
CREATED:20250716T113700Z
LAST-MODIFIED:20250716T113700Z
UID:21183-1782864000-1782950399@sagadriehuis.nl
SUMMARY:Afronden\, opruimen en verhuizen.\n4e Community avond met diploma uitreiking van 19:00-20:30
DESCRIPTION:Afronden\, opruimen en verhuizen.\n4e Community avond met diploma uitreiking van 19:00-20:30
URL:https://sagadriehuis.nl/jaaragenda/afronden-opruimen-en-verhuizen-4e-community-avond-met-diploma-uitreiking-van-1900-2030/
END:VEVENT
BEGIN:VEVENT
DTSTART;VALUE=DATE:20260702
DTEND;VALUE=DATE:20260703
DTSTAMP:20260421T054407
CREATED:20250716T113900Z
LAST-MODIFIED:20250716T113900Z
UID:21184-1782950400-1783036799@sagadriehuis.nl
SUMMARY:Leerlingen roostervrij
DESCRIPTION:Leerlingen roostervrij
URL:https://sagadriehuis.nl/jaaragenda/leerlingen-roostervrij-4/
END:VEVENT
BEGIN:VEVENT
DTSTART;VALUE=DATE:20260703
DTEND;VALUE=DATE:20260704
DTSTAMP:20260421T054407
CREATED:20250716T113900Z
LAST-MODIFIED:20250716T113900Z
UID:21185-1783036800-1783123199@sagadriehuis.nl
SUMMARY:Leerlingen roostervrij
DESCRIPTION:Leerlingen roostervrij
URL:https://sagadriehuis.nl/jaaragenda/leerlingen-roostervrij-5/
END:VEVENT
BEGIN:VEVENT
DTSTART;VALUE=DATE:20260704
DTEND;VALUE=DATE:20260817
DTSTAMP:20260421T054407
CREATED:20250716T120736Z
LAST-MODIFIED:20250716T120815Z
UID:21204-1783123200-1786924799@sagadriehuis.nl
SUMMARY:Zomervakantie
DESCRIPTION:Zomervakantie
URL:https://sagadriehuis.nl/jaaragenda/zomervakantie-12/
END:VEVENT
END:VCALENDAR