BEGIN:VCALENDAR
VERSION:2.0
PRODID:-//Saga Driehuis - ECPv6.15.20//NONSGML v1.0//EN
CALSCALE:GREGORIAN
METHOD:PUBLISH
X-WR-CALNAME:Saga Driehuis
X-ORIGINAL-URL:https://sagadriehuis.nl
X-WR-CALDESC:Evenementen voor Saga Driehuis
REFRESH-INTERVAL;VALUE=DURATION:PT1H
X-Robots-Tag:noindex
X-PUBLISHED-TTL:PT1H
BEGIN:VTIMEZONE
TZID:Europe/Amsterdam
BEGIN:DAYLIGHT
TZOFFSETFROM:+0100
TZOFFSETTO:+0200
TZNAME:CEST
DTSTART:20220327T010000
END:DAYLIGHT
BEGIN:STANDARD
TZOFFSETFROM:+0200
TZOFFSETTO:+0100
TZNAME:CET
DTSTART:20221030T010000
END:STANDARD
BEGIN:DAYLIGHT
TZOFFSETFROM:+0100
TZOFFSETTO:+0200
TZNAME:CEST
DTSTART:20230326T010000
END:DAYLIGHT
BEGIN:STANDARD
TZOFFSETFROM:+0200
TZOFFSETTO:+0100
TZNAME:CET
DTSTART:20231029T010000
END:STANDARD
BEGIN:DAYLIGHT
TZOFFSETFROM:+0100
TZOFFSETTO:+0200
TZNAME:CEST
DTSTART:20240331T010000
END:DAYLIGHT
BEGIN:STANDARD
TZOFFSETFROM:+0200
TZOFFSETTO:+0100
TZNAME:CET
DTSTART:20241027T010000
END:STANDARD
END:VTIMEZONE
BEGIN:VEVENT
DTSTART;VALUE=DATE:20231002
DTEND;VALUE=DATE:20231003
DTSTAMP:20260425T234547
CREATED:20240108T094758Z
LAST-MODIFIED:20240108T105605Z
UID:15867-1696204800-1696291199@sagadriehuis.nl
SUMMARY:sportclinics
DESCRIPTION:
URL:https://sagadriehuis.nl/jaaragenda/sportclinics-3/
END:VEVENT
BEGIN:VEVENT
DTSTART;VALUE=DATE:20231003
DTEND;VALUE=DATE:20231004
DTSTAMP:20260425T234547
CREATED:20240108T094758Z
LAST-MODIFIED:20240108T105605Z
UID:15868-1696291200-1696377599@sagadriehuis.nl
SUMMARY:sportclinics
DESCRIPTION:
URL:https://sagadriehuis.nl/jaaragenda/sportclinics-4/
END:VEVENT
BEGIN:VEVENT
DTSTART;VALUE=DATE:20231004
DTEND;VALUE=DATE:20231005
DTSTAMP:20260425T234547
CREATED:20230904T113728Z
LAST-MODIFIED:20240108T105606Z
UID:13157-1696377600-1696463999@sagadriehuis.nl
SUMMARY:verkort rooster tot 12.45 /overlegmiddag Team
DESCRIPTION:
URL:https://sagadriehuis.nl/jaaragenda/verkort-rooster-tot-12-45-overlegmiddag-team-4/
END:VEVENT
BEGIN:VEVENT
DTSTART;VALUE=DATE:20231011
DTEND;VALUE=DATE:20231012
DTSTAMP:20260425T234547
CREATED:20240108T105606Z
LAST-MODIFIED:20240108T105606Z
UID:15996-1696982400-1697068799@sagadriehuis.nl
SUMMARY:ProfessionalIseringsdagen coaches in Roermond vanaf avond - overdag jongeren op school
DESCRIPTION:
URL:https://sagadriehuis.nl/jaaragenda/professionaliseringsdagen-coaches-in-roermond-vanaf-avond-overdag-jongeren-op-school/
END:VEVENT
BEGIN:VEVENT
DTSTART;VALUE=DATE:20231012
DTEND;VALUE=DATE:20231013
DTSTAMP:20260425T234547
CREATED:20240108T105606Z
LAST-MODIFIED:20240108T105606Z
UID:15997-1697068800-1697155199@sagadriehuis.nl
SUMMARY:ProfessionalIseringsdagen coaches in Roermond - thuiswerk jongeren - vierdejaars op school
DESCRIPTION:
URL:https://sagadriehuis.nl/jaaragenda/professionaliseringsdagen-coaches-in-roermond-thuiswerk-jongeren-vierdejaars-op-school/
END:VEVENT
BEGIN:VEVENT
DTSTART;VALUE=DATE:20231013
DTEND;VALUE=DATE:20231014
DTSTAMP:20260425T234547
CREATED:20240108T105620Z
LAST-MODIFIED:20240619T073109Z
UID:15998-1697155200-1697241599@sagadriehuis.nl
SUMMARY:Professionaliseringsdagen coaches in Roermond - thuiswerk jongeren - vierdejaars op school
DESCRIPTION:
URL:https://sagadriehuis.nl/jaaragenda/professionaliseringsdagen-coaches-in-roermond-thuiswerk-jongeren-vierdejaars-op-school-2/
END:VEVENT
BEGIN:VEVENT
DTSTART;VALUE=DATE:20231016
DTEND;VALUE=DATE:20231017
DTSTAMP:20260425T234547
CREATED:20230904T113928Z
LAST-MODIFIED:20240108T105620Z
UID:13158-1697414400-1697500799@sagadriehuis.nl
SUMMARY:diatoetsen
DESCRIPTION:
URL:https://sagadriehuis.nl/jaaragenda/diatoetsen/
END:VEVENT
BEGIN:VEVENT
DTSTART;VALUE=DATE:20231017
DTEND;VALUE=DATE:20231018
DTSTAMP:20260425T234547
CREATED:20230904T113929Z
LAST-MODIFIED:20240108T105620Z
UID:13159-1697500800-1697587199@sagadriehuis.nl
SUMMARY:diatoetsen
DESCRIPTION:
URL:https://sagadriehuis.nl/jaaragenda/diatoetsen-2/
END:VEVENT
BEGIN:VEVENT
DTSTART;VALUE=DATE:20231018
DTEND;VALUE=DATE:20231019
DTSTAMP:20260425T234547
CREATED:20230904T114017Z
LAST-MODIFIED:20240108T105621Z
UID:13160-1697587200-1697673599@sagadriehuis.nl
SUMMARY:diatoetsen / verkort rooster tot 12.45 /overlegmiddag Team
DESCRIPTION:
URL:https://sagadriehuis.nl/jaaragenda/diatoetsen-verkort-rooster-tot-12-45-overlegmiddag-team/
END:VEVENT
BEGIN:VEVENT
DTSTART;VALUE=DATE:20231019
DTEND;VALUE=DATE:20231020
DTSTAMP:20260425T234547
CREATED:20230904T114017Z
LAST-MODIFIED:20240108T105621Z
UID:13161-1697673600-1697759999@sagadriehuis.nl
SUMMARY:diatoetsen
DESCRIPTION:
URL:https://sagadriehuis.nl/jaaragenda/diatoetsen-3/
END:VEVENT
BEGIN:VEVENT
DTSTART;VALUE=DATE:20231020
DTEND;VALUE=DATE:20231021
DTSTAMP:20260425T234547
CREATED:20230904T114017Z
LAST-MODIFIED:20240108T105635Z
UID:13162-1697760000-1697846399@sagadriehuis.nl
SUMMARY:Oogstdag / teambuildingdag met team en jongeren (zonder ouders)
DESCRIPTION:
URL:https://sagadriehuis.nl/jaaragenda/oogstdag-teambuildingdag-met-team-en-jongeren-zonder-ouders/
END:VEVENT
BEGIN:VEVENT
DTSTART;VALUE=DATE:20231023
DTEND;VALUE=DATE:20231024
DTSTAMP:20260425T234547
CREATED:20230904T114017Z
LAST-MODIFIED:20240108T105635Z
UID:13163-1698019200-1698105599@sagadriehuis.nl
SUMMARY:Herfstvakantie
DESCRIPTION:
URL:https://sagadriehuis.nl/jaaragenda/herfstvakantie-2/
END:VEVENT
BEGIN:VEVENT
DTSTART;VALUE=DATE:20231030
DTEND;VALUE=DATE:20231031
DTSTAMP:20260425T234547
CREATED:20230904T114033Z
LAST-MODIFIED:20240108T105635Z
UID:13168-1698624000-1698710399@sagadriehuis.nl
SUMMARY:Studiedag Team Saga (thuiswerkdag lln)
DESCRIPTION:
URL:https://sagadriehuis.nl/jaaragenda/studiedag-team-saga-thuiswerkdag-lln/
END:VEVENT
END:VCALENDAR