BEGIN:VCALENDAR
VERSION:2.0
PRODID:-//Saga Driehuis - ECPv6.15.20//NONSGML v1.0//EN
CALSCALE:GREGORIAN
METHOD:PUBLISH
X-ORIGINAL-URL:https://sagadriehuis.nl
X-WR-CALDESC:Evenementen voor Saga Driehuis
REFRESH-INTERVAL;VALUE=DURATION:PT1H
X-Robots-Tag:noindex
X-PUBLISHED-TTL:PT1H
BEGIN:VTIMEZONE
TZID:Europe/Amsterdam
BEGIN:DAYLIGHT
TZOFFSETFROM:+0100
TZOFFSETTO:+0200
TZNAME:CEST
DTSTART:20220327T010000
END:DAYLIGHT
BEGIN:STANDARD
TZOFFSETFROM:+0200
TZOFFSETTO:+0100
TZNAME:CET
DTSTART:20221030T010000
END:STANDARD
BEGIN:DAYLIGHT
TZOFFSETFROM:+0100
TZOFFSETTO:+0200
TZNAME:CEST
DTSTART:20230326T010000
END:DAYLIGHT
BEGIN:STANDARD
TZOFFSETFROM:+0200
TZOFFSETTO:+0100
TZNAME:CET
DTSTART:20231029T010000
END:STANDARD
BEGIN:DAYLIGHT
TZOFFSETFROM:+0100
TZOFFSETTO:+0200
TZNAME:CEST
DTSTART:20240331T010000
END:DAYLIGHT
BEGIN:STANDARD
TZOFFSETFROM:+0200
TZOFFSETTO:+0100
TZNAME:CET
DTSTART:20241027T010000
END:STANDARD
END:VTIMEZONE
BEGIN:VEVENT
DTSTART;VALUE=DATE:20231101
DTEND;VALUE=DATE:20231102
DTSTAMP:20260425T061443
CREATED:20240108T105635Z
LAST-MODIFIED:20240108T105635Z
UID:15999-1698796800-1698883199@sagadriehuis.nl
SUMMARY:scholenmarkt Velsen - verkort rooster jongeren
DESCRIPTION:
URL:https://sagadriehuis.nl/jaaragenda/scholenmarkt-velsen-verkort-rooster-jongeren/
END:VEVENT
BEGIN:VEVENT
DTSTART;VALUE=DATE:20231106
DTEND;VALUE=DATE:20231107
DTSTAMP:20260425T061443
CREATED:20240108T105636Z
LAST-MODIFIED:20240108T105636Z
UID:16000-1699228800-1699315199@sagadriehuis.nl
SUMMARY:voortgangsgesprekken - verkort rooster vanaf 12.45
DESCRIPTION:
URL:https://sagadriehuis.nl/jaaragenda/voortgangsgesprekken-verkort-rooster-vanaf-12-45/
END:VEVENT
BEGIN:VEVENT
DTSTART;VALUE=DATE:20231107
DTEND;VALUE=DATE:20231108
DTSTAMP:20260425T061443
CREATED:20240108T105651Z
LAST-MODIFIED:20240108T105651Z
UID:16001-1699315200-1699401599@sagadriehuis.nl
SUMMARY:voortgangsgesprekken - verkort rooster vanaf 12.45
DESCRIPTION:
URL:https://sagadriehuis.nl/jaaragenda/voortgangsgesprekken-verkort-rooster-vanaf-12-45-2/
END:VEVENT
BEGIN:VEVENT
DTSTART;VALUE=DATE:20231108
DTEND;VALUE=DATE:20231109
DTSTAMP:20260425T061443
CREATED:20240108T105651Z
LAST-MODIFIED:20240108T105651Z
UID:16002-1699401600-1699487999@sagadriehuis.nl
SUMMARY:voortgangsgesprekken - verkort rooster vanaf 12.45
DESCRIPTION:
URL:https://sagadriehuis.nl/jaaragenda/voortgangsgesprekken-verkort-rooster-vanaf-12-45-3/
END:VEVENT
BEGIN:VEVENT
DTSTART;VALUE=DATE:20231109
DTEND;VALUE=DATE:20231110
DTSTAMP:20260425T061443
CREATED:20240108T105651Z
LAST-MODIFIED:20240108T105651Z
UID:16003-1699488000-1699574399@sagadriehuis.nl
SUMMARY:voortgangsgesprekken - verkort rooster vanaf 12.45
DESCRIPTION:
URL:https://sagadriehuis.nl/jaaragenda/voortgangsgesprekken-verkort-rooster-vanaf-12-45-4/
END:VEVENT
BEGIN:VEVENT
DTSTART;VALUE=DATE:20231110
DTEND;VALUE=DATE:20231111
DTSTAMP:20260425T061443
CREATED:20240108T105651Z
LAST-MODIFIED:20240108T105651Z
UID:16004-1699574400-1699660799@sagadriehuis.nl
SUMMARY:voortgangsgesprekken - verkort rooster vanaf 12.45
DESCRIPTION:
URL:https://sagadriehuis.nl/jaaragenda/voortgangsgesprekken-verkort-rooster-vanaf-12-45-5/
END:VEVENT
BEGIN:VEVENT
DTSTART;VALUE=DATE:20231113
DTEND;VALUE=DATE:20231114
DTSTAMP:20260425T061443
CREATED:20240108T095124Z
LAST-MODIFIED:20240108T105652Z
UID:15877-1699833600-1699919999@sagadriehuis.nl
SUMMARY:sportclinics
DESCRIPTION:
URL:https://sagadriehuis.nl/jaaragenda/sportclinics-5/
END:VEVENT
BEGIN:VEVENT
DTSTART;VALUE=DATE:20231114
DTEND;VALUE=DATE:20231115
DTSTAMP:20260425T061443
CREATED:20240108T095324Z
LAST-MODIFIED:20240108T105705Z
UID:15878-1699920000-1700006399@sagadriehuis.nl
SUMMARY:challenge middag groep 8 / sportclinics
DESCRIPTION:
URL:https://sagadriehuis.nl/jaaragenda/challenge-middag-groep-8-sportclinics/
END:VEVENT
BEGIN:VEVENT
DTSTART;VALUE=DATE:20231115
DTEND;VALUE=DATE:20231116
DTSTAMP:20260425T061443
CREATED:20230904T114434Z
LAST-MODIFIED:20240108T105705Z
UID:13172-1700006400-1700092799@sagadriehuis.nl
SUMMARY:verkort rooster tot 12.45 /overlegmiddag Team
DESCRIPTION:
URL:https://sagadriehuis.nl/jaaragenda/verkort-rooster-tot-12-45-overlegmiddag-team-6/
END:VEVENT
BEGIN:VEVENT
DTSTART;VALUE=DATE:20231122
DTEND;VALUE=DATE:20231123
DTSTAMP:20260425T061443
CREATED:20230904T114434Z
LAST-MODIFIED:20240108T105706Z
UID:13174-1700611200-1700697599@sagadriehuis.nl
SUMMARY:verkort rooster tot 12.45 /overlegmiddag Team
DESCRIPTION:
URL:https://sagadriehuis.nl/jaaragenda/verkort-rooster-tot-12-45-overlegmiddag-team-7/
END:VEVENT
BEGIN:VEVENT
DTSTART;VALUE=DATE:20231128
DTEND;VALUE=DATE:20231129
DTSTAMP:20260425T061443
CREATED:20240108T105706Z
LAST-MODIFIED:20240108T105706Z
UID:16005-1701129600-1701215999@sagadriehuis.nl
SUMMARY:Verenigingsdag Agora Onderwijs - alle jongeren werken thuis
DESCRIPTION:
URL:https://sagadriehuis.nl/jaaragenda/verenigingsdag-agora-onderwijs-alle-jongeren-werken-thuis-2/
END:VEVENT
BEGIN:VEVENT
DTSTART;VALUE=DATE:20231129
DTEND;VALUE=DATE:20231130
DTSTAMP:20260425T061443
CREATED:20240108T105706Z
LAST-MODIFIED:20240108T105706Z
UID:16006-1701216000-1701302399@sagadriehuis.nl
SUMMARY:verkort rooster ivm studiemiddag Team - avond Community Avond (ouders en jongeren) vanaf 19.00
DESCRIPTION:
URL:https://sagadriehuis.nl/jaaragenda/verkort-rooster-ivm-studiemiddag-team-avond-community-avond-ouders-en-jongeren-vanaf-19-00/
END:VEVENT
END:VCALENDAR