BEGIN:VCALENDAR
VERSION:2.0
PRODID:-//Saga Driehuis - ECPv6.15.20//NONSGML v1.0//EN
CALSCALE:GREGORIAN
METHOD:PUBLISH
X-ORIGINAL-URL:https://sagadriehuis.nl
X-WR-CALDESC:Evenementen voor Saga Driehuis
REFRESH-INTERVAL;VALUE=DURATION:PT1H
X-Robots-Tag:noindex
X-PUBLISHED-TTL:PT1H
BEGIN:VTIMEZONE
TZID:Europe/Amsterdam
BEGIN:DAYLIGHT
TZOFFSETFROM:+0100
TZOFFSETTO:+0200
TZNAME:CEST
DTSTART:20230326T010000
END:DAYLIGHT
BEGIN:STANDARD
TZOFFSETFROM:+0200
TZOFFSETTO:+0100
TZNAME:CET
DTSTART:20231029T010000
END:STANDARD
BEGIN:DAYLIGHT
TZOFFSETFROM:+0100
TZOFFSETTO:+0200
TZNAME:CEST
DTSTART:20240331T010000
END:DAYLIGHT
BEGIN:STANDARD
TZOFFSETFROM:+0200
TZOFFSETTO:+0100
TZNAME:CET
DTSTART:20241027T010000
END:STANDARD
BEGIN:DAYLIGHT
TZOFFSETFROM:+0100
TZOFFSETTO:+0200
TZNAME:CEST
DTSTART:20250330T010000
END:DAYLIGHT
BEGIN:STANDARD
TZOFFSETFROM:+0200
TZOFFSETTO:+0100
TZNAME:CET
DTSTART:20251026T010000
END:STANDARD
END:VTIMEZONE
BEGIN:VEVENT
DTSTART;VALUE=DATE:20241101
DTEND;VALUE=DATE:20241102
DTSTAMP:20260422T110748
CREATED:20240701T120752Z
LAST-MODIFIED:20240701T120752Z
UID:18445-1730419200-1730505599@sagadriehuis.nl
SUMMARY:Herfstvakantie
DESCRIPTION:
URL:https://sagadriehuis.nl/jaaragenda/herfstvakantie-6/
END:VEVENT
BEGIN:VEVENT
DTSTART;VALUE=DATE:20241106
DTEND;VALUE=DATE:20241107
DTSTAMP:20260422T110748
CREATED:20240701T120752Z
LAST-MODIFIED:20240701T120752Z
UID:18446-1730851200-1730937599@sagadriehuis.nl
SUMMARY:Verkort rooster tot 12:45 uur
DESCRIPTION:
URL:https://sagadriehuis.nl/jaaragenda/verkort-rooster-tot-1245-uur-2/
END:VEVENT
BEGIN:VEVENT
DTSTART;VALUE=DATE:20241111
DTEND;VALUE=DATE:20241112
DTSTAMP:20260422T110748
CREATED:20240701T120753Z
LAST-MODIFIED:20240701T120753Z
UID:18447-1731283200-1731369599@sagadriehuis.nl
SUMMARY:Voortgangsgesprekken
DESCRIPTION:
URL:https://sagadriehuis.nl/jaaragenda/voortgangsgesprekken/
END:VEVENT
BEGIN:VEVENT
DTSTART;VALUE=DATE:20241112
DTEND;VALUE=DATE:20241113
DTSTAMP:20260422T110748
CREATED:20240701T120807Z
LAST-MODIFIED:20240701T120807Z
UID:18448-1731369600-1731455999@sagadriehuis.nl
SUMMARY:Voortgangsgesprekken
DESCRIPTION:
URL:https://sagadriehuis.nl/jaaragenda/voortgangsgesprekken-2/
END:VEVENT
BEGIN:VEVENT
DTSTART;VALUE=DATE:20241113
DTEND;VALUE=DATE:20241114
DTSTAMP:20260422T110748
CREATED:20240701T120807Z
LAST-MODIFIED:20240701T120807Z
UID:18449-1731456000-1731542399@sagadriehuis.nl
SUMMARY:Verkort rooster tot 12:45 uur | Scholen markt Gemeente Velsen in bibliotheek
DESCRIPTION:
URL:https://sagadriehuis.nl/jaaragenda/verkort-rooster-tot-1245-uur-scholen-markt-gemeente-velsen-in-bibliotheek/
END:VEVENT
BEGIN:VEVENT
DTSTART;VALUE=DATE:20241114
DTEND;VALUE=DATE:20241115
DTSTAMP:20260422T110748
CREATED:20240701T120807Z
LAST-MODIFIED:20240701T120807Z
UID:18450-1731542400-1731628799@sagadriehuis.nl
SUMMARY:Voortgangsgesprekken
DESCRIPTION:
URL:https://sagadriehuis.nl/jaaragenda/voortgangsgesprekken-3/
END:VEVENT
BEGIN:VEVENT
DTSTART;VALUE=DATE:20241115
DTEND;VALUE=DATE:20241116
DTSTAMP:20260422T110748
CREATED:20240701T120807Z
LAST-MODIFIED:20240701T120807Z
UID:18451-1731628800-1731715199@sagadriehuis.nl
SUMMARY:Voortgangsgesprekken
DESCRIPTION:
URL:https://sagadriehuis.nl/jaaragenda/voortgangsgesprekken-4/
END:VEVENT
BEGIN:VEVENT
DTSTART;VALUE=DATE:20241120
DTEND;VALUE=DATE:20241121
DTSTAMP:20260422T110748
CREATED:20240701T120807Z
LAST-MODIFIED:20240701T120807Z
UID:18452-1732060800-1732147199@sagadriehuis.nl
SUMMARY:Verkort rooster tot 12:45 uur | Scholen markt Gemeente Velsen in bibliotheek
DESCRIPTION:
URL:https://sagadriehuis.nl/jaaragenda/verkort-rooster-tot-1245-uur-scholen-markt-gemeente-velsen-in-bibliotheek-2/
END:VEVENT
BEGIN:VEVENT
DTSTART;VALUE=DATE:20241127
DTEND;VALUE=DATE:20241128
DTSTAMP:20260422T110748
CREATED:20240701T120822Z
LAST-MODIFIED:20240701T120822Z
UID:18453-1732665600-1732751999@sagadriehuis.nl
SUMMARY:Verkort rooster tot 12:45 uur | Open avond Saga Driehuis / start 18:30 uur met hulp leerlingen
DESCRIPTION:
URL:https://sagadriehuis.nl/jaaragenda/verkort-rooster-tot-1245-uur-open-avond-saga-driehuis-start-1830-uur-met-hulp-leerlingen/
END:VEVENT
END:VCALENDAR