BEGIN:VCALENDAR
VERSION:2.0
PRODID:-//Saga Driehuis - ECPv6.15.20//NONSGML v1.0//EN
CALSCALE:GREGORIAN
METHOD:PUBLISH
X-ORIGINAL-URL:https://sagadriehuis.nl
X-WR-CALDESC:Evenementen voor Saga Driehuis
REFRESH-INTERVAL;VALUE=DURATION:PT1H
X-Robots-Tag:noindex
X-PUBLISHED-TTL:PT1H
BEGIN:VTIMEZONE
TZID:Europe/Amsterdam
BEGIN:DAYLIGHT
TZOFFSETFROM:+0100
TZOFFSETTO:+0200
TZNAME:CEST
DTSTART:20240331T010000
END:DAYLIGHT
BEGIN:STANDARD
TZOFFSETFROM:+0200
TZOFFSETTO:+0100
TZNAME:CET
DTSTART:20241027T010000
END:STANDARD
BEGIN:DAYLIGHT
TZOFFSETFROM:+0100
TZOFFSETTO:+0200
TZNAME:CEST
DTSTART:20250330T010000
END:DAYLIGHT
BEGIN:STANDARD
TZOFFSETFROM:+0200
TZOFFSETTO:+0100
TZNAME:CET
DTSTART:20251026T010000
END:STANDARD
BEGIN:DAYLIGHT
TZOFFSETFROM:+0100
TZOFFSETTO:+0200
TZNAME:CEST
DTSTART:20260329T010000
END:DAYLIGHT
BEGIN:STANDARD
TZOFFSETFROM:+0200
TZOFFSETTO:+0100
TZNAME:CET
DTSTART:20261025T010000
END:STANDARD
END:VTIMEZONE
BEGIN:VEVENT
DTSTART;VALUE=DATE:20250701
DTEND;VALUE=DATE:20250702
DTSTAMP:20260421T141630
CREATED:20240701T122958Z
LAST-MODIFIED:20240701T122958Z
UID:18550-1751328000-1751414399@sagadriehuis.nl
SUMMARY:Portfoliopresentaties aan ouders tijdens driehoekshesprekken / verkort rooster tot 12:45 uur
DESCRIPTION:
URL:https://sagadriehuis.nl/jaaragenda/portfoliopresentaties-aan-ouders-tijdens-driehoekshesprekken-verkort-rooster-tot-1245-uur-2/
END:VEVENT
BEGIN:VEVENT
DTSTART;VALUE=DATE:20250702
DTEND;VALUE=DATE:20250703
DTSTAMP:20260421T141630
CREATED:20240701T122958Z
LAST-MODIFIED:20240701T122958Z
UID:18551-1751414400-1751500799@sagadriehuis.nl
SUMMARY:Portfoliopresentaties aan ouders tijdens driehoekshesprekken / verkort rooster tot 12:45 uur
DESCRIPTION:
URL:https://sagadriehuis.nl/jaaragenda/portfoliopresentaties-aan-ouders-tijdens-driehoekshesprekken-verkort-rooster-tot-1245-uur-3/
END:VEVENT
BEGIN:VEVENT
DTSTART;VALUE=DATE:20250703
DTEND;VALUE=DATE:20250704
DTSTAMP:20260421T141630
CREATED:20240701T122958Z
LAST-MODIFIED:20240701T122958Z
UID:18552-1751500800-1751587199@sagadriehuis.nl
SUMMARY:Portfoliopresentaties aan ouders tijdens driehoekshesprekken / verkort rooster tot 12:45 uur
DESCRIPTION:
URL:https://sagadriehuis.nl/jaaragenda/portfoliopresentaties-aan-ouders-tijdens-driehoekshesprekken-verkort-rooster-tot-1245-uur-4/
END:VEVENT
BEGIN:VEVENT
DTSTART;VALUE=DATE:20250704
DTEND;VALUE=DATE:20250705
DTSTAMP:20260421T141630
CREATED:20240701T123158Z
LAST-MODIFIED:20240701T123158Z
UID:18553-1751587200-1751673599@sagadriehuis.nl
SUMMARY:Portfoliopresentaties aan ouders tijdens driehoekshesprekken / verkort rooster tot 12:45 uur
DESCRIPTION:
URL:https://sagadriehuis.nl/jaaragenda/portfoliopresentaties-aan-ouders-tijdens-driehoekshesprekken-verkort-rooster-tot-1245-uur-5/
END:VEVENT
BEGIN:VEVENT
DTSTART;VALUE=DATE:20250707
DTEND;VALUE=DATE:20250708
DTSTAMP:20260421T141630
CREATED:20240701T123158Z
LAST-MODIFIED:20240701T123158Z
UID:18554-1751846400-1751932799@sagadriehuis.nl
SUMMARY:Afronden / opruimen / verhuizen
DESCRIPTION:
URL:https://sagadriehuis.nl/jaaragenda/afronden-opruimen-verhuizen-6/
END:VEVENT
BEGIN:VEVENT
DTSTART;VALUE=DATE:20250708
DTEND;VALUE=DATE:20250709
DTSTAMP:20260421T141630
CREATED:20240701T123158Z
LAST-MODIFIED:20240701T123158Z
UID:18555-1751932800-1752019199@sagadriehuis.nl
SUMMARY:Afronden / opruimen / verhuizen
DESCRIPTION:
URL:https://sagadriehuis.nl/jaaragenda/afronden-opruimen-verhuizen-7/
END:VEVENT
BEGIN:VEVENT
DTSTART;VALUE=DATE:20250709
DTEND;VALUE=DATE:20250710
DTSTAMP:20260421T141630
CREATED:20240701T123158Z
LAST-MODIFIED:20240701T123158Z
UID:18556-1752019200-1752105599@sagadriehuis.nl
SUMMARY:Leerlingen roostervrij
DESCRIPTION:
URL:https://sagadriehuis.nl/jaaragenda/leerlingen-roostervrij/
END:VEVENT
BEGIN:VEVENT
DTSTART;VALUE=DATE:20250710
DTEND;VALUE=DATE:20250711
DTSTAMP:20260421T141630
CREATED:20240701T123159Z
LAST-MODIFIED:20240701T123159Z
UID:18557-1752105600-1752191999@sagadriehuis.nl
SUMMARY:Leerlingen roostervrij
DESCRIPTION:
URL:https://sagadriehuis.nl/jaaragenda/leerlingen-roostervrij-2/
END:VEVENT
BEGIN:VEVENT
DTSTART;VALUE=DATE:20250711
DTEND;VALUE=DATE:20250712
DTSTAMP:20260421T141630
CREATED:20240701T123359Z
LAST-MODIFIED:20240701T123359Z
UID:18558-1752192000-1752278399@sagadriehuis.nl
SUMMARY:Leerlingen roostervrij
DESCRIPTION:
URL:https://sagadriehuis.nl/jaaragenda/leerlingen-roostervrij-3/
END:VEVENT
BEGIN:VEVENT
DTSTART;VALUE=DATE:20250714
DTEND;VALUE=DATE:20250715
DTSTAMP:20260421T141630
CREATED:20240701T123359Z
LAST-MODIFIED:20240701T123359Z
UID:18559-1752451200-1752537599@sagadriehuis.nl
SUMMARY:Zomervakantie
DESCRIPTION:
URL:https://sagadriehuis.nl/jaaragenda/zomervakantie-9/
END:VEVENT
END:VCALENDAR