BEGIN:VCALENDAR
VERSION:2.0
PRODID:-//Saga Driehuis - ECPv6.15.20//NONSGML v1.0//EN
CALSCALE:GREGORIAN
METHOD:PUBLISH
X-WR-CALNAME:Saga Driehuis
X-ORIGINAL-URL:https://sagadriehuis.nl
X-WR-CALDESC:Evenementen voor Saga Driehuis
REFRESH-INTERVAL;VALUE=DURATION:PT1H
X-Robots-Tag:noindex
X-PUBLISHED-TTL:PT1H
BEGIN:VTIMEZONE
TZID:Europe/Amsterdam
BEGIN:DAYLIGHT
TZOFFSETFROM:+0100
TZOFFSETTO:+0200
TZNAME:CEST
DTSTART:20240331T010000
END:DAYLIGHT
BEGIN:STANDARD
TZOFFSETFROM:+0200
TZOFFSETTO:+0100
TZNAME:CET
DTSTART:20241027T010000
END:STANDARD
BEGIN:DAYLIGHT
TZOFFSETFROM:+0100
TZOFFSETTO:+0200
TZNAME:CEST
DTSTART:20250330T010000
END:DAYLIGHT
BEGIN:STANDARD
TZOFFSETFROM:+0200
TZOFFSETTO:+0100
TZNAME:CET
DTSTART:20251026T010000
END:STANDARD
BEGIN:DAYLIGHT
TZOFFSETFROM:+0100
TZOFFSETTO:+0200
TZNAME:CEST
DTSTART:20260329T010000
END:DAYLIGHT
BEGIN:STANDARD
TZOFFSETFROM:+0200
TZOFFSETTO:+0100
TZNAME:CET
DTSTART:20261025T010000
END:STANDARD
END:VTIMEZONE
BEGIN:VEVENT
DTSTART;VALUE=DATE:20250903
DTEND;VALUE=DATE:20250904
DTSTAMP:20260421T074641
CREATED:20250716T111522Z
LAST-MODIFIED:20250716T111522Z
UID:21045-1756857600-1756943999@sagadriehuis.nl
SUMMARY:Verkort rooster onderbouw tot 12:45\nOnderbouw: Informatieavond ouders nieuwe leerlingen van 18-19u.
DESCRIPTION:Verkort rooster onderbouw tot 12:45\nOnderbouw: Informatieavond ouders nieuwe leerlingen van 18-19u. Onderbouw: Community avond 19:15-20:30u.\nBovenbouw: Informatieavond examentraject voor ouders 18 – 19.30u.
URL:https://sagadriehuis.nl/jaaragenda/verkort-rooster-onderbouw-tot-1245onderbouw-informatieavond-ouders-nieuwe-leerlingen-van-18-19u/
END:VEVENT
BEGIN:VEVENT
DTSTART;VALUE=DATE:20250910
DTEND;VALUE=DATE:20250911
DTSTAMP:20260421T074641
CREATED:20250716T111522Z
LAST-MODIFIED:20250716T111522Z
UID:21046-1757462400-1757548799@sagadriehuis.nl
SUMMARY:Onderbouw verkort rooster tot 12:45
DESCRIPTION:Onderbouw verkort rooster tot 12:45
URL:https://sagadriehuis.nl/jaaragenda/onderbouw-verkort-rooster-tot-1245/
END:VEVENT
BEGIN:VEVENT
DTSTART;VALUE=DATE:20250915
DTEND;VALUE=DATE:20250916
DTSTAMP:20260421T074641
CREATED:20250716T111522Z
LAST-MODIFIED:20250716T111522Z
UID:21047-1757894400-1757980799@sagadriehuis.nl
SUMMARY:Schoolfotograaf
DESCRIPTION:Schoolfotograaf
URL:https://sagadriehuis.nl/jaaragenda/schoolfotograaf-2/
END:VEVENT
BEGIN:VEVENT
DTSTART;VALUE=DATE:20250917
DTEND;VALUE=DATE:20250918
DTSTAMP:20260421T074641
CREATED:20250716T111522Z
LAST-MODIFIED:20250716T111522Z
UID:21048-1758067200-1758153599@sagadriehuis.nl
SUMMARY:Werkweek onderbouw
DESCRIPTION:Werkweek onderbouw
URL:https://sagadriehuis.nl/jaaragenda/werkweek-onderbouw/
END:VEVENT
BEGIN:VEVENT
DTSTART;VALUE=DATE:20250918
DTEND;VALUE=DATE:20250919
DTSTAMP:20260421T074641
CREATED:20250716T111536Z
LAST-MODIFIED:20250716T111536Z
UID:21049-1758153600-1758239999@sagadriehuis.nl
SUMMARY:Werkweek onderbouw
DESCRIPTION:Werkweek onderbouw
URL:https://sagadriehuis.nl/jaaragenda/werkweek-onderbouw-2/
END:VEVENT
BEGIN:VEVENT
DTSTART;VALUE=DATE:20250919
DTEND;VALUE=DATE:20250920
DTSTAMP:20260421T074641
CREATED:20250716T111536Z
LAST-MODIFIED:20250716T111536Z
UID:21050-1758240000-1758326399@sagadriehuis.nl
SUMMARY:Werkweek onderbouw
DESCRIPTION:Werkweek onderbouw
URL:https://sagadriehuis.nl/jaaragenda/werkweek-onderbouw-3/
END:VEVENT
BEGIN:VEVENT
DTSTART;VALUE=DATE:20250922
DTEND;VALUE=DATE:20250923
DTSTAMP:20260421T074641
CREATED:20250716T111536Z
LAST-MODIFIED:20250716T111536Z
UID:21051-1758499200-1758585599@sagadriehuis.nl
SUMMARY:Werkweek bovenbouw Week tegen pesten
DESCRIPTION:Werkweek bovenbouw Week tegen pesten
URL:https://sagadriehuis.nl/jaaragenda/werkweek-bovenbouw-week-tegen-pesten/
END:VEVENT
BEGIN:VEVENT
DTSTART;VALUE=DATE:20250923
DTEND;VALUE=DATE:20250924
DTSTAMP:20260421T074641
CREATED:20250716T111537Z
LAST-MODIFIED:20250716T111537Z
UID:21052-1758585600-1758671999@sagadriehuis.nl
SUMMARY:Werkweek bovenbouw Week tegen pesten
DESCRIPTION:Werkweek bovenbouw Week tegen pesten
URL:https://sagadriehuis.nl/jaaragenda/werkweek-bovenbouw-week-tegen-pesten-2/
END:VEVENT
BEGIN:VEVENT
DTSTART;VALUE=DATE:20250924
DTEND;VALUE=DATE:20250925
DTSTAMP:20260421T074641
CREATED:20250716T111537Z
LAST-MODIFIED:20250716T111537Z
UID:21053-1758672000-1758758399@sagadriehuis.nl
SUMMARY:Werkweek bovenbouw\nVerkort rooster onderbouw tot 12:45u. Week tegen pesten\nOnderbouw sportdag
DESCRIPTION:Werkweek bovenbouw\nVerkort rooster onderbouw tot 12:45u. Week tegen pesten\nOnderbouw sportdag
URL:https://sagadriehuis.nl/jaaragenda/werkweek-bovenbouwverkort-rooster-onderbouw-tot-1245u-week-tegen-pestenonderbouw-sportdag/
END:VEVENT
BEGIN:VEVENT
DTSTART;VALUE=DATE:20250925
DTEND;VALUE=DATE:20250926
DTSTAMP:20260421T074641
CREATED:20250716T111552Z
LAST-MODIFIED:20250716T111552Z
UID:21054-1758758400-1758844799@sagadriehuis.nl
SUMMARY:Werkweek bovenbouw Week tegen pesten
DESCRIPTION:Werkweek bovenbouw Week tegen pesten
URL:https://sagadriehuis.nl/jaaragenda/werkweek-bovenbouw-week-tegen-pesten-3/
END:VEVENT
BEGIN:VEVENT
DTSTART;VALUE=DATE:20250926
DTEND;VALUE=DATE:20250927
DTSTAMP:20260421T074641
CREATED:20250716T111552Z
LAST-MODIFIED:20250716T111552Z
UID:21055-1758844800-1758931199@sagadriehuis.nl
SUMMARY:Werkweek bovenbouw Week tegen pesten
DESCRIPTION:Werkweek bovenbouw Week tegen pesten
URL:https://sagadriehuis.nl/jaaragenda/werkweek-bovenbouw-week-tegen-pesten-4/
END:VEVENT
END:VCALENDAR