BEGIN:VCALENDAR
VERSION:2.0
PRODID:-//Saga Driehuis - ECPv6.15.20//NONSGML v1.0//EN
CALSCALE:GREGORIAN
METHOD:PUBLISH
X-WR-CALNAME:Saga Driehuis
X-ORIGINAL-URL:https://sagadriehuis.nl
X-WR-CALDESC:Evenementen voor Saga Driehuis
REFRESH-INTERVAL;VALUE=DURATION:PT1H
X-Robots-Tag:noindex
X-PUBLISHED-TTL:PT1H
BEGIN:VTIMEZONE
TZID:Europe/Amsterdam
BEGIN:DAYLIGHT
TZOFFSETFROM:+0100
TZOFFSETTO:+0200
TZNAME:CEST
DTSTART:20250330T010000
END:DAYLIGHT
BEGIN:STANDARD
TZOFFSETFROM:+0200
TZOFFSETTO:+0100
TZNAME:CET
DTSTART:20251026T010000
END:STANDARD
BEGIN:DAYLIGHT
TZOFFSETFROM:+0100
TZOFFSETTO:+0200
TZNAME:CEST
DTSTART:20260329T010000
END:DAYLIGHT
BEGIN:STANDARD
TZOFFSETFROM:+0200
TZOFFSETTO:+0100
TZNAME:CET
DTSTART:20261025T010000
END:STANDARD
BEGIN:DAYLIGHT
TZOFFSETFROM:+0100
TZOFFSETTO:+0200
TZNAME:CEST
DTSTART:20270328T010000
END:DAYLIGHT
BEGIN:STANDARD
TZOFFSETFROM:+0200
TZOFFSETTO:+0100
TZNAME:CET
DTSTART:20271031T010000
END:STANDARD
END:VTIMEZONE
BEGIN:VEVENT
DTSTART;VALUE=DATE:20260203
DTEND;VALUE=DATE:20260204
DTSTAMP:20260421T074643
CREATED:20250923T100941Z
LAST-MODIFIED:20250923T100941Z
UID:34533-1770076800-1770163199@sagadriehuis.nl
SUMMARY:Meeloopochtend voor leerlingen van groep 8 van 09:00 – 12:30 uur
DESCRIPTION:Meeloopochtend voor leerlingen van groep 8 van 09:00 – 12:30 uur
URL:https://sagadriehuis.nl/jaaragenda/meeloopochtend-voor-leerlingen-van-groep-8-van-0900-1230-uur-19/
END:VEVENT
BEGIN:VEVENT
DTSTART;VALUE=DATE:20260204
DTEND;VALUE=DATE:20260205
DTSTAMP:20260421T074643
CREATED:20250716T112449Z
LAST-MODIFIED:20250716T112449Z
UID:21110-1770163200-1770249599@sagadriehuis.nl
SUMMARY:Verkort rooster onderbouw tot 12:45\n3e communityavond van 18:30-20:30
DESCRIPTION:Verkort rooster onderbouw tot 12:45\n3e communityavond van 18:30-20:30
URL:https://sagadriehuis.nl/jaaragenda/verkort-rooster-onderbouw-tot-12453e-communityavond-van-1830-2030/
END:VEVENT
BEGIN:VEVENT
DTSTART;VALUE=DATE:20260205
DTEND;VALUE=DATE:20260206
DTSTAMP:20260421T074643
CREATED:20250923T100959Z
LAST-MODIFIED:20250923T100959Z
UID:34537-1770249600-1770335999@sagadriehuis.nl
SUMMARY:Meeloopochtend voor leerlingen van groep 8 van 09:00 – 12:30 uur
DESCRIPTION:Meeloopochtend voor leerlingen van groep 8 van 09:00 – 12:30 uur
URL:https://sagadriehuis.nl/jaaragenda/meeloopochtend-voor-leerlingen-van-groep-8-van-0900-1230-uur-20/
END:VEVENT
BEGIN:VEVENT
DTSTART;VALUE=DATE:20260210
DTEND;VALUE=DATE:20260211
DTSTAMP:20260421T074643
CREATED:20250923T101027Z
LAST-MODIFIED:20250923T101027Z
UID:34540-1770681600-1770767999@sagadriehuis.nl
SUMMARY:Meeloopochtend voor leerlingen van groep 8 van 09:00 – 12:30 uur
DESCRIPTION:Meeloopochtend voor leerlingen van groep 8 van 09:00 – 12:30 uur
URL:https://sagadriehuis.nl/jaaragenda/meeloopochtend-voor-leerlingen-van-groep-8-van-0900-1230-uur-21/
END:VEVENT
BEGIN:VEVENT
DTSTART;VALUE=DATE:20260211
DTEND;VALUE=DATE:20260212
DTSTAMP:20260421T074643
CREATED:20250716T112449Z
LAST-MODIFIED:20250716T112449Z
UID:21111-1770768000-1770854399@sagadriehuis.nl
SUMMARY:Verkort rooster onderbouw tot 12:45
DESCRIPTION:Verkort rooster onderbouw tot 12:45
URL:https://sagadriehuis.nl/jaaragenda/verkort-rooster-onderbouw-tot-1245/
END:VEVENT
BEGIN:VEVENT
DTSTART;VALUE=DATE:20260212
DTEND;VALUE=DATE:20260213
DTSTAMP:20260421T074643
CREATED:20250923T101053Z
LAST-MODIFIED:20250923T101053Z
UID:34545-1770854400-1770940799@sagadriehuis.nl
SUMMARY:Meeloopochtend voor leerlingen van groep 8 van 09:00 – 12:30 uur
DESCRIPTION:Meeloopochtend voor leerlingen van groep 8 van 09:00 – 12:30 uur
URL:https://sagadriehuis.nl/jaaragenda/meeloopochtend-voor-leerlingen-van-groep-8-van-0900-1230-uur-22/
END:VEVENT
BEGIN:VEVENT
DTSTART;VALUE=DATE:20260218
DTEND;VALUE=DATE:20260219
DTSTAMP:20260421T074643
CREATED:20250716T112449Z
LAST-MODIFIED:20250716T112449Z
UID:21112-1771372800-1771459199@sagadriehuis.nl
SUMMARY:Verkort rooster onderbouw tot 12:45
DESCRIPTION:Verkort rooster onderbouw tot 12:45
URL:https://sagadriehuis.nl/jaaragenda/verkort-rooster-onderbouw-tot-1245-2/
END:VEVENT
BEGIN:VEVENT
DTSTART;VALUE=DATE:20260223
DTEND;VALUE=DATE:20260224
DTSTAMP:20260421T074643
CREATED:20250716T112449Z
LAST-MODIFIED:20250716T112449Z
UID:21113-1771804800-1771891199@sagadriehuis.nl
SUMMARY:Voorjaarsvakantie
DESCRIPTION:Voorjaarsvakantie
URL:https://sagadriehuis.nl/jaaragenda/voorjaarsvakantie-7/
END:VEVENT
BEGIN:VEVENT
DTSTART;VALUE=DATE:20260224
DTEND;VALUE=DATE:20260225
DTSTAMP:20260421T074643
CREATED:20250716T112504Z
LAST-MODIFIED:20250716T112504Z
UID:21114-1771891200-1771977599@sagadriehuis.nl
SUMMARY:Voorjaarsvakantie
DESCRIPTION:Voorjaarsvakantie
URL:https://sagadriehuis.nl/jaaragenda/voorjaarsvakantie-8/
END:VEVENT
BEGIN:VEVENT
DTSTART;VALUE=DATE:20260225
DTEND;VALUE=DATE:20260226
DTSTAMP:20260421T074643
CREATED:20250716T112504Z
LAST-MODIFIED:20250716T112504Z
UID:21115-1771977600-1772063999@sagadriehuis.nl
SUMMARY:Voorjaarsvakantie
DESCRIPTION:Voorjaarsvakantie
URL:https://sagadriehuis.nl/jaaragenda/voorjaarsvakantie-9/
END:VEVENT
BEGIN:VEVENT
DTSTART;VALUE=DATE:20260226
DTEND;VALUE=DATE:20260227
DTSTAMP:20260421T074643
CREATED:20250716T112505Z
LAST-MODIFIED:20250716T112505Z
UID:21116-1772064000-1772150399@sagadriehuis.nl
SUMMARY:Voorjaarsvakantie
DESCRIPTION:Voorjaarsvakantie
URL:https://sagadriehuis.nl/jaaragenda/voorjaarsvakantie-10/
END:VEVENT
BEGIN:VEVENT
DTSTART;VALUE=DATE:20260227
DTEND;VALUE=DATE:20260228
DTSTAMP:20260421T074643
CREATED:20250716T112505Z
LAST-MODIFIED:20250716T112505Z
UID:21117-1772150400-1772236799@sagadriehuis.nl
SUMMARY:Voorjaarsvakantie
DESCRIPTION:Voorjaarsvakantie
URL:https://sagadriehuis.nl/jaaragenda/voorjaarsvakantie-11/
END:VEVENT
END:VCALENDAR